BEGIN:VCALENDAR
VERSION:2.0
PRODID:-//Martin Sports Car Club - ECPv6.15.17//NONSGML v1.0//EN
CALSCALE:GREGORIAN
METHOD:PUBLISH
X-WR-CALNAME:Martin Sports Car Club
X-ORIGINAL-URL:https://martinsportscarclub.org
X-WR-CALDESC:Events for Martin Sports Car Club
REFRESH-INTERVAL;VALUE=DURATION:PT1H
X-Robots-Tag:noindex
X-PUBLISHED-TTL:PT1H
BEGIN:VTIMEZONE
TZID:America/New_York
BEGIN:DAYLIGHT
TZOFFSETFROM:-0500
TZOFFSETTO:-0400
TZNAME:EDT
DTSTART:20250309T070000
END:DAYLIGHT
BEGIN:STANDARD
TZOFFSETFROM:-0400
TZOFFSETTO:-0500
TZNAME:EST
DTSTART:20251102T060000
END:STANDARD
BEGIN:DAYLIGHT
TZOFFSETFROM:-0500
TZOFFSETTO:-0400
TZNAME:EDT
DTSTART:20260308T070000
END:DAYLIGHT
BEGIN:STANDARD
TZOFFSETFROM:-0400
TZOFFSETTO:-0500
TZNAME:EST
DTSTART:20261101T060000
END:STANDARD
BEGIN:DAYLIGHT
TZOFFSETFROM:-0500
TZOFFSETTO:-0400
TZNAME:EDT
DTSTART:20270314T070000
END:DAYLIGHT
BEGIN:STANDARD
TZOFFSETFROM:-0400
TZOFFSETTO:-0500
TZNAME:EST
DTSTART:20271107T060000
END:STANDARD
END:VTIMEZONE
BEGIN:VEVENT
DTSTART;TZID=America/New_York:20260507T193000
DTEND;TZID=America/New_York:20260507T203000
DTSTAMP:20260423T061254
CREATED:20260309T134656Z
LAST-MODIFIED:20260309T135209Z
UID:10000180-1778182200-1778185800@martinsportscarclub.org
SUMMARY:Member Meeting
DESCRIPTION:Guests are always welcome!  If you are thinking of joining\, come check out a meeting and get a feel for the group.  If you have any questions let us know\, most of us are actually pretty friendly 🙂 \nRemember: show up early if you want to order some food!
URL:https://martinsportscarclub.org/event/member-meeting-202605/
LOCATION:Dees Brothers Brewery\, 210 Magnolia Ave\, Sanford\, FL\, 32771\, United States
CATEGORIES:Meeting
ATTACH;FMTTYPE=image/jpeg:https://martinsportscarclub.org/wp-content/uploads/2023/01/event_hero_memberMeeting_2023.jpg
END:VEVENT
BEGIN:VEVENT
DTSTART;TZID=America/New_York:20260510T070000
DTEND;TZID=America/New_York:20260510T153000
DTSTAMP:20260423T061254
CREATED:20260309T134322Z
LAST-MODIFIED:20260309T134322Z
UID:10000178-1778396400-1778427000@martinsportscarclub.org
SUMMARY:Competition Event #5
DESCRIPTION:Non-members are always welcome!  Anyone can register and run with us.  It’s always fun\, it’s always an experience! \nThere will be a participant cap set at 100 drivers — be sure to register soon if you plan on attending! \nThis is our Mother’s Day event — Mom’s race for free!!! \n\nPlease Note: You must pre-register for this event.  Walk-ups are not permitted and you will be turned away.  Be sure to register if you want to attend.  Thanks for understanding!  If you don’t see the Register button\, that means this event is too far out.  Wait until a little closer to the event date\, and check again.  Lastly\, all Guests (non-drivers) must sign a waiver when arriving to the event. An event worker will provide this waiver at the gate when you arrive.
URL:https://martinsportscarclub.org/event/competition-event-202605/
LOCATION:Lake Tech\, 13000 Frankies Rd\, Tavares\, FL\, 32778\, United States
CATEGORIES:Competition
ATTACH;FMTTYPE=image/jpeg:https://martinsportscarclub.org/wp-content/uploads/2023/01/event_hero_eventCompetition_2023.jpg
END:VEVENT
BEGIN:VEVENT
DTSTART;TZID=America/New_York:20260604T193000
DTEND;TZID=America/New_York:20260604T203000
DTSTAMP:20260423T061254
CREATED:20260309T135058Z
LAST-MODIFIED:20260309T135058Z
UID:10000182-1780601400-1780605000@martinsportscarclub.org
SUMMARY:Member Meeting
DESCRIPTION:Guests are always welcome!  If you are thinking of joining\, come check out a meeting and get a feel for the group.  If you have any questions let us know\, most of us are actually pretty friendly 🙂 \nRemember: show up early if you want to order some food!
URL:https://martinsportscarclub.org/event/member-meeting-202606/
LOCATION:IHOP – Apopka\, 1120 W Orange Blossom Trail\, Apopka\, FL\, 32712\, United States
CATEGORIES:Meeting
ATTACH;FMTTYPE=image/jpeg:https://martinsportscarclub.org/wp-content/uploads/2023/01/event_hero_memberMeeting_2023.jpg
END:VEVENT
BEGIN:VEVENT
DTSTART;TZID=America/New_York:20260614T070000
DTEND;TZID=America/New_York:20260614T153000
DTSTAMP:20260423T061254
CREATED:20260309T134457Z
LAST-MODIFIED:20260309T134457Z
UID:10000179-1781420400-1781451000@martinsportscarclub.org
SUMMARY:Competition Event #6
DESCRIPTION:Non-members are always welcome!  Anyone can register and run with us.  It’s always fun\, it’s always an experience! \nThere will be a participant cap set at 100 drivers — be sure to register soon if you plan on attending! \n\nPlease Note: You must pre-register for this event.  Walk-ups are not permitted and you will be turned away.  Be sure to register if you want to attend.  Thanks for understanding!  If you don’t see the Register button\, that means this event is too far out.  Wait until a little closer to the event date\, and check again.  Lastly\, all Guests (non-drivers) must sign a waiver when arriving to the event. An event worker will provide this waiver at the gate when you arrive.
URL:https://martinsportscarclub.org/event/competition-event-202606/
LOCATION:Lake Tech\, 13000 Frankies Rd\, Tavares\, FL\, 32778\, United States
CATEGORIES:Competition
ATTACH;FMTTYPE=image/jpeg:https://martinsportscarclub.org/wp-content/uploads/2023/01/event_hero_eventCompetition_2023.jpg
END:VEVENT
END:VCALENDAR